BEGIN:VCALENDAR
VERSION:2.0
PRODID:-//Hopedale Athletic Boosters Association - ECPv6.15.1.1//NONSGML v1.0//EN
CALSCALE:GREGORIAN
METHOD:PUBLISH
X-WR-CALNAME:Hopedale Athletic Boosters Association
X-ORIGINAL-URL:https://www.hopedaleboosters.org
X-WR-CALDESC:Events for Hopedale Athletic Boosters Association
REFRESH-INTERVAL;VALUE=DURATION:PT1H
X-Robots-Tag:noindex
X-PUBLISHED-TTL:PT1H
BEGIN:VTIMEZONE
TZID:America/New_York
BEGIN:DAYLIGHT
TZOFFSETFROM:-0500
TZOFFSETTO:-0400
TZNAME:EDT
DTSTART:20220313T070000
END:DAYLIGHT
BEGIN:STANDARD
TZOFFSETFROM:-0400
TZOFFSETTO:-0500
TZNAME:EST
DTSTART:20221106T060000
END:STANDARD
BEGIN:DAYLIGHT
TZOFFSETFROM:-0500
TZOFFSETTO:-0400
TZNAME:EDT
DTSTART:20230312T070000
END:DAYLIGHT
BEGIN:STANDARD
TZOFFSETFROM:-0400
TZOFFSETTO:-0500
TZNAME:EST
DTSTART:20231105T060000
END:STANDARD
END:VTIMEZONE
BEGIN:VEVENT
DTSTART;TZID=America/New_York:20231204T190000
DTEND;TZID=America/New_York:20231204T200000
DTSTAMP:20260421T070651
CREATED:20240126T023504Z
LAST-MODIFIED:20240126T023504Z
UID:302-1701716400-1701720000@www.hopedaleboosters.org
SUMMARY:December Meeting
DESCRIPTION:
URL:https://www.hopedaleboosters.org/event/december-meeting/
CATEGORIES:meeting
END:VEVENT
BEGIN:VEVENT
DTSTART;TZID=America/New_York:20230605T190000
DTEND;TZID=America/New_York:20230605T200000
DTSTAMP:20260421T070651
CREATED:20220616T123505Z
LAST-MODIFIED:20220616T124916Z
UID:96-1685991600-1685995200@www.hopedaleboosters.org
SUMMARY:June Meeting
DESCRIPTION:
URL:https://www.hopedaleboosters.org/event/2023-06/
CATEGORIES:meeting
END:VEVENT
BEGIN:VEVENT
DTSTART;TZID=America/New_York:20230501T190000
DTEND;TZID=America/New_York:20230501T200000
DTSTAMP:20260421T070651
CREATED:20220616T123505Z
LAST-MODIFIED:20220616T124853Z
UID:95-1682967600-1682971200@www.hopedaleboosters.org
SUMMARY:May Meeting
DESCRIPTION:
URL:https://www.hopedaleboosters.org/event/2023-05/
CATEGORIES:meeting
END:VEVENT
BEGIN:VEVENT
DTSTART;TZID=America/New_York:20230403T190000
DTEND;TZID=America/New_York:20230403T200000
DTSTAMP:20260421T070651
CREATED:20220616T123505Z
LAST-MODIFIED:20220616T124904Z
UID:94-1680548400-1680552000@www.hopedaleboosters.org
SUMMARY:April Meeting
DESCRIPTION:
URL:https://www.hopedaleboosters.org/event/2023-04/
CATEGORIES:meeting
END:VEVENT
BEGIN:VEVENT
DTSTART;TZID=America/New_York:20230306T190000
DTEND;TZID=America/New_York:20230306T200000
DTSTAMP:20260421T070651
CREATED:20220616T123505Z
LAST-MODIFIED:20220616T125110Z
UID:93-1678129200-1678132800@www.hopedaleboosters.org
SUMMARY:March Meeting
DESCRIPTION:
URL:https://www.hopedaleboosters.org/event/2023-03/
CATEGORIES:meeting
END:VEVENT
BEGIN:VEVENT
DTSTART;TZID=America/New_York:20230206T190000
DTEND;TZID=America/New_York:20230206T200000
DTSTAMP:20260421T070651
CREATED:20220616T123504Z
LAST-MODIFIED:20220616T125058Z
UID:92-1675710000-1675713600@www.hopedaleboosters.org
SUMMARY:February Meeting
DESCRIPTION:
URL:https://www.hopedaleboosters.org/event/2023-02/
CATEGORIES:meeting
END:VEVENT
BEGIN:VEVENT
DTSTART;TZID=America/New_York:20230109T190000
DTEND;TZID=America/New_York:20230109T200000
DTSTAMP:20260421T070651
CREATED:20220616T123503Z
LAST-MODIFIED:20220616T125050Z
UID:91-1673290800-1673294400@www.hopedaleboosters.org
SUMMARY:January Meeting **
DESCRIPTION:
URL:https://www.hopedaleboosters.org/event/2023-01/
CATEGORIES:meeting
END:VEVENT
BEGIN:VEVENT
DTSTART;TZID=America/New_York:20221205T190000
DTEND;TZID=America/New_York:20221205T200000
DTSTAMP:20260421T070651
CREATED:20220616T123503Z
LAST-MODIFIED:20220616T125037Z
UID:90-1670266800-1670270400@www.hopedaleboosters.org
SUMMARY:December Meeting
DESCRIPTION:
URL:https://www.hopedaleboosters.org/event/2022-12/
CATEGORIES:meeting
END:VEVENT
BEGIN:VEVENT
DTSTART;TZID=America/New_York:20221107T190000
DTEND;TZID=America/New_York:20221107T200000
DTSTAMP:20260421T070651
CREATED:20220616T123503Z
LAST-MODIFIED:20220616T125028Z
UID:89-1667847600-1667851200@www.hopedaleboosters.org
SUMMARY:November Meeting
DESCRIPTION:
URL:https://www.hopedaleboosters.org/event/2022-11/
CATEGORIES:meeting
END:VEVENT
BEGIN:VEVENT
DTSTART;TZID=America/New_York:20221003T190000
DTEND;TZID=America/New_York:20221003T200000
DTSTAMP:20260421T070651
CREATED:20220616T123502Z
LAST-MODIFIED:20220616T125019Z
UID:88-1664823600-1664827200@www.hopedaleboosters.org
SUMMARY:October Meeting
DESCRIPTION:
URL:https://www.hopedaleboosters.org/event/2022-10/
CATEGORIES:meeting
END:VEVENT
BEGIN:VEVENT
DTSTART;TZID=America/New_York:20220912T190000
DTEND;TZID=America/New_York:20220912T200000
DTSTAMP:20260421T070651
CREATED:20220616T123502Z
LAST-MODIFIED:20220616T125013Z
UID:87-1663009200-1663012800@www.hopedaleboosters.org
SUMMARY:September Meeting **
DESCRIPTION:
URL:https://www.hopedaleboosters.org/event/2022-09/
CATEGORIES:meeting
END:VEVENT
END:VCALENDAR